BEGIN:VCALENDAR
VERSION:2.0
PRODID:spatie/icalendar-generator
NAME:Optimizing Strategic Sourcing with Agentic AI: A Compliant and Dual EU
 /FDA Approach for Cutting Costs without Cutting Corners [MedtecLIVE 2026]
X-WR-CALNAME:Optimizing Strategic Sourcing with Agentic AI: A Compliant and
  Dual EU/FDA Approach for Cutting Costs without Cutting Corners [MedtecLIV
 E 2026]
BEGIN:VTIMEZONE
TZID:Europe/Zurich
BEGIN:STANDARD
DTSTART:20251026T030000
TZOFFSETFROM:+0200
TZOFFSETTO:+0100
END:STANDARD
BEGIN:DAYLIGHT
DTSTART:20260329T020000
TZOFFSETFROM:+0100
TZOFFSETTO:+0200
END:DAYLIGHT
BEGIN:STANDARD
DTSTART:20261025T030000
TZOFFSETFROM:+0200
TZOFFSETTO:+0100
END:STANDARD
END:VTIMEZONE
BEGIN:VTIMEZONE
TZID:UTC
BEGIN:STANDARD
DTSTART:20250724T222818
TZOFFSETFROM:+0000
TZOFFSETTO:+0000
END:STANDARD
END:VTIMEZONE
BEGIN:VEVENT
UID:69e6a88295e66
DTSTAMP:20260420T222818Z
DTSTART;TZID=Europe/Zurich:20260506T160000
DTEND;TZID=Europe/Zurich:20260506T162000
SUMMARY:Optimizing Strategic Sourcing with Agentic AI: A Compliant and Dual
  EU/FDA Approach for Cutting Costs without Cutting Corners [MedtecLIVE 202
 6]
DESCRIPTION:https://www.medteclive.com/en/e/optimizing-strategic-sourcing-w
 ith-agentic-ai-a-compliant-and-dual-eu-fda-approach-for-cutting-costs-with
 out-cutting-corners.80104\n\n
LOCATION:Exhibitor Forum (3-347)
END:VEVENT
END:VCALENDAR