BEGIN:VCALENDAR
VERSION:2.0
PRODID:spatie/icalendar-generator
NAME:Welcome address by Minister of Economic Affairs Dr. Nicole Hoffmeister
 -Kraut [MedtecLIVE 2026]
X-WR-CALNAME:Welcome address by Minister of Economic Affairs Dr. Nicole Hof
 fmeister-Kraut [MedtecLIVE 2026]
BEGIN:VTIMEZONE
TZID:Europe/Zurich
BEGIN:STANDARD
DTSTART:20251026T030000
TZOFFSETFROM:+0200
TZOFFSETTO:+0100
END:STANDARD
BEGIN:DAYLIGHT
DTSTART:20260329T020000
TZOFFSETFROM:+0100
TZOFFSETTO:+0200
END:DAYLIGHT
BEGIN:STANDARD
DTSTART:20261025T030000
TZOFFSETFROM:+0200
TZOFFSETTO:+0100
END:STANDARD
END:VTIMEZONE
BEGIN:VTIMEZONE
TZID:UTC
BEGIN:STANDARD
DTSTART:20250725T200642
TZOFFSETFROM:+0000
TZOFFSETTO:+0000
END:STANDARD
END:VTIMEZONE
BEGIN:VEVENT
UID:69e7d8d2056e5
DTSTAMP:20260421T200642Z
DTSTART;TZID=Europe/Zurich:20260505T120000
DTEND;TZID=Europe/Zurich:20260505T121000
SUMMARY:Welcome address by Minister of Economic Affairs Dr. Nicole Hoffmeis
 ter-Kraut [MedtecLIVE 2026]
DESCRIPTION:https://www.medteclive.com/en/e/welcome-address-by-minister-of-
 economic-affairs-dr-nicole-hoffmeister-kraut.80033\n\n
LOCATION:Forum (3-520)
END:VEVENT
END:VCALENDAR