BEGIN:VCALENDAR
VERSION:2.0
PRODID:spatie/icalendar-generator
NAME:Live Demo: How to Reliably Handle Massive Data Streams Without Wasting
  CPU [MedtecLIVE 2026]
X-WR-CALNAME:Live Demo: How to Reliably Handle Massive Data Streams Without
  Wasting CPU [MedtecLIVE 2026]
BEGIN:VTIMEZONE
TZID:Europe/Zurich
BEGIN:STANDARD
DTSTART:20251026T030000
TZOFFSETFROM:+0200
TZOFFSETTO:+0100
END:STANDARD
BEGIN:DAYLIGHT
DTSTART:20260329T020000
TZOFFSETFROM:+0100
TZOFFSETTO:+0200
END:DAYLIGHT
BEGIN:STANDARD
DTSTART:20261025T030000
TZOFFSETFROM:+0200
TZOFFSETTO:+0100
END:STANDARD
END:VTIMEZONE
BEGIN:VTIMEZONE
TZID:UTC
BEGIN:STANDARD
DTSTART:20250727T115115
TZOFFSETFROM:+0000
TZOFFSETTO:+0000
END:STANDARD
END:VTIMEZONE
BEGIN:VEVENT
UID:69ea07b3ba8c4
DTSTAMP:20260423T115115Z
DTSTART;TZID=Europe/Zurich:20260506T113000
DTEND;TZID=Europe/Zurich:20260506T115000
SUMMARY:Live Demo: How to Reliably Handle Massive Data Streams Without Wast
 ing CPU [MedtecLIVE 2026]
DESCRIPTION:https://www.medteclive.com/en/e/live-demo-how-to-reliably-handl
 e-massive-data-streams-without-wasting-cpu.79074\n\nProcessing large amoun
 ts of sensor data doesn't necessarily mean high CPU load and performance b
 ottlenecks. See what changes when the foundation is done right.
LOCATION:Young Innovators (3-458a)
END:VEVENT
END:VCALENDAR