BEGIN:VCALENDAR
VERSION:2.0
PRODID:spatie/icalendar-generator
NAME:Smart Hospital – Robotics and automation in the hospital of the futu
 re [MedtecLIVE 2026]
X-WR-CALNAME:Smart Hospital – Robotics and automation in the hospital of 
 the future [MedtecLIVE 2026]
BEGIN:VTIMEZONE
TZID:Europe/Zurich
BEGIN:STANDARD
DTSTART:20251026T030000
TZOFFSETFROM:+0200
TZOFFSETTO:+0100
END:STANDARD
BEGIN:DAYLIGHT
DTSTART:20260329T020000
TZOFFSETFROM:+0100
TZOFFSETTO:+0200
END:DAYLIGHT
BEGIN:STANDARD
DTSTART:20261025T030000
TZOFFSETFROM:+0200
TZOFFSETTO:+0100
END:STANDARD
END:VTIMEZONE
BEGIN:VTIMEZONE
TZID:UTC
BEGIN:STANDARD
DTSTART:20250725T083311
TZOFFSETFROM:+0000
TZOFFSETTO:+0000
END:STANDARD
END:VTIMEZONE
BEGIN:VEVENT
UID:69e7364729852
DTSTAMP:20260421T083311Z
DTSTART;TZID=Europe/Zurich:20260507T133000
DTEND;TZID=Europe/Zurich:20260507T143000
SUMMARY:Smart Hospital – Robotics and automation in the hospital of the f
 uture [MedtecLIVE 2026]
DESCRIPTION:https://www.medteclive.com/en/e/smart-hospital-robotics-and-aut
 omation-in-the-hospital-of-the-future.77327\n\nThe hospital of the future 
 will be digitally networked and will use robotics and automation for many 
 processes and procedures. What solutions can industry contribute\, and wha
 t established processes in industry can the healthcare sector learn from?
LOCATION:Forum (3-520)
END:VEVENT
END:VCALENDAR