BEGIN:VCALENDAR
VERSION:2.0
PRODID:spatie/icalendar-generator
NAME:Optimierung des strategischen Sourcings mit Agentic AI: Ein konformer\
 , dualer EU/FDA-Ansatz zur Kostensenkung ohne Qualitätsverlust [MedtecLIV
 E 2026]
X-WR-CALNAME:Optimierung des strategischen Sourcings mit Agentic AI: Ein ko
 nformer\, dualer EU/FDA-Ansatz zur Kostensenkung ohne Qualitätsverlust [M
 edtecLIVE 2026]
BEGIN:VTIMEZONE
TZID:Europe/Zurich
BEGIN:STANDARD
DTSTART:20251026T030000
TZOFFSETFROM:+0200
TZOFFSETTO:+0100
END:STANDARD
BEGIN:DAYLIGHT
DTSTART:20260329T020000
TZOFFSETFROM:+0100
TZOFFSETTO:+0200
END:DAYLIGHT
BEGIN:STANDARD
DTSTART:20261025T030000
TZOFFSETFROM:+0200
TZOFFSETTO:+0100
END:STANDARD
END:VTIMEZONE
BEGIN:VTIMEZONE
TZID:UTC
BEGIN:STANDARD
DTSTART:20250724T210631
TZOFFSETFROM:+0000
TZOFFSETTO:+0000
END:STANDARD
END:VTIMEZONE
BEGIN:VEVENT
UID:69e69557bed07
DTSTAMP:20260420T210631Z
DTSTART;TZID=Europe/Zurich:20260506T160000
DTEND;TZID=Europe/Zurich:20260506T162000
SUMMARY:Optimierung des strategischen Sourcings mit Agentic AI: Ein konform
 er\, dualer EU/FDA-Ansatz zur Kostensenkung ohne Qualitätsverlust [Medtec
 LIVE 2026]
DESCRIPTION:https://www.medteclive.com/de/e/optimierung-des-strategischen-s
 ourcings-mit-agentic-ai-ein-konformer-dualer-eu-fda-ansatz-zur-kostensenku
 ng-ohne-qualitaetsverlust.80104\n\n
LOCATION:Exhibitor Forum (3-347)
END:VEVENT
END:VCALENDAR