BEGIN:VCALENDAR
VERSION:2.0
PRODID:spatie/icalendar-generator
NAME:Live Demo: Wie sich große Datenströme zuverlässig verarbeiten lasse
 n\, ohne CPU zu verschwenden [MedtecLIVE 2026]
X-WR-CALNAME:Live Demo: Wie sich große Datenströme zuverlässig verarbeit
 en lassen\, ohne CPU zu verschwenden [MedtecLIVE 2026]
BEGIN:VTIMEZONE
TZID:Europe/Zurich
BEGIN:STANDARD
DTSTART:20251026T030000
TZOFFSETFROM:+0200
TZOFFSETTO:+0100
END:STANDARD
BEGIN:DAYLIGHT
DTSTART:20260329T020000
TZOFFSETFROM:+0100
TZOFFSETTO:+0200
END:DAYLIGHT
BEGIN:STANDARD
DTSTART:20261025T030000
TZOFFSETFROM:+0200
TZOFFSETTO:+0100
END:STANDARD
END:VTIMEZONE
BEGIN:VTIMEZONE
TZID:UTC
BEGIN:STANDARD
DTSTART:20250727T134505
TZOFFSETFROM:+0000
TZOFFSETTO:+0000
END:STANDARD
END:VTIMEZONE
BEGIN:VEVENT
UID:69ea226132443
DTSTAMP:20260423T134505Z
DTSTART;TZID=Europe/Zurich:20260506T113000
DTEND;TZID=Europe/Zurich:20260506T115000
SUMMARY:Live Demo: Wie sich große Datenströme zuverlässig verarbeiten la
 ssen\, ohne CPU zu verschwenden [MedtecLIVE 2026]
DESCRIPTION:https://www.medteclive.com/de/e/live-demo-wie-sich-grosse-daten
 stroeme-zuverlaessig-verarbeiten-lassen-ohne-cpu-zu-verschwenden.79074\n\n
 Die Verarbeitung großer Mengen an Sensordaten muss nicht zwangsläufig mi
 t einer hohen CPU-Auslastung und Performance-Problemen einhergehen. Erfahr
 en Sie\, was sich ändert\, wenn die Grundlagen richtig geschaffen werden.
LOCATION:Young Innovators (3-458a)
END:VEVENT
END:VCALENDAR